BEGIN:VCALENDAR
VERSION:2.0
PRODID:-//wp-events-plugin.com//7.2.3.1//EN
TZID:Europe/Zagreb
X-WR-TIMEZONE:Europe/Zagreb
BEGIN:VEVENT
UID:2332@komedija.hr
DTSTART;TZID=Europe/Zagreb:20251128T210000
DTEND;TZID=Europe/Zagreb:20251128T223000
DTSTAMP:20251128T141000Z
URL:https://www.komedija.hr/www/events/tribute-to-vaya-con-dios-koncert-3/
SUMMARY:Tribute to Vaya Con Dios\, koncert
DESCRIPTION:Tribute to Vaya Con Dios vesela je petorka sa zagrebačkim adre
 sama\, koji su ujedno i veliki obožavatelji izričaja nekoć vrlo popular
 nog Vaya Con Dios.\n\nSvojim specificnim/energičnim i emotivnim izvedbama
  uspjesnica Vaya Con Dios ostavit će vas možda bez daha\, a možda i bez
  mjesta u Klubu Kazališta Komedija ako ne uzmete svoju kartu za koncert n
 a vrijeme.\n\nNazaboravan zvuk ove petorke čine\;&nbsp\;Katarina Vukadin 
 (vokal)\, Goran Žegarac (akustična i električna gitara)\, Kristian Greg
 urić (bas gitara)\, Maro Market (klavijature i harmonika) i Goran Markić
  (bubnjevi).\n\nVeselimo se Vašem dolasku!\n\nUlaznice dostupne online na
  ulaznice.hr te na blagajni Kluba Kazališta Komedija. Radno vrijeme blaga
 jne je od 18:30 do 21:30\,&nbsp\;isključivo na dane kada se održavaju pr
 edstave/programi u Klubu.
ATTACH;FMTTYPE=image/jpeg:https://www.komedija.hr/www/wp-content/uploads/2
 025/10/tribute_to_vaya_con_dios_WEB_feature-post_350x245-1.jpg
CATEGORIES:KLUB KAZALIŠTA KOMEDIJA (Cesarčeva 2)
LOCATION:https://www.ulaznice.hr/web/event-browse/8/19968
END:VEVENT
BEGIN:VTIMEZONE
TZID:Europe/Zagreb
X-LIC-LOCATION:Europe/Zagreb
BEGIN:STANDARD
DTSTART:20251026T020000
TZOFFSETFROM:+0200
TZOFFSETTO:+0100
TZNAME:CET
END:STANDARD
END:VTIMEZONE
END:VCALENDAR